BEGIN:VCALENDAR
VERSION:2.0
PRODID:Events Booking
BEGIN:VEVENT
UID:69e74b66bd600
SUMMARY:March 25th Learn-To-Curl - 2026 - Session 1
DESCRIPTION:This is a Learn To Curl event open to the public!&nbsp\; This w
 ill be an hour and a half event starting at 7:30PM and ending at 9:00PM on
  Wednesday March 25th\, 2026.&nbsp\; This will be hosted at The NTPRD Chil
 ler in Springfield Ohio.&nbsp\; This event has a capacity of 32 individual
 s including parents and children.&nbsp\;&nbsp\;
 &nbsp\;
LOCATION:301 West Main Street\, Springfield\, 45504 Ohio\, United States
DTSTART:20260325T233000Z
DTEND:20260326T010000Z
DTSTAMP:20240112T204934Z
ORGANIZER;CN=Curl Troy:MAILTO:do-not-reply@curltroy.org
GEO:39.924294;-83.816595
X-APPLE-STRUCTURED-LOCATION;VALUE=URI;X-ADDRESS=301 West Main Street\, Spri
 ngfield\, 45504 Ohio\, United States;X-APPLE-RADIUS=72;X-TITLE=NTPRD Chill
 er:39.924294;-83.816595
END:VEVENT
END:VCALENDAR